BEGIN:VCALENDAR
VERSION:2.0
PRODID:-//Edgewater Preschool - ECPv5.2.1.1//NONSGML v1.0//EN
CALSCALE:GREGORIAN
METHOD:PUBLISH
X-WR-CALNAME:Edgewater Preschool
X-ORIGINAL-URL:https://www.edgewaterpreschool.com
X-WR-CALDESC:Events for Edgewater Preschool
BEGIN:VTIMEZONE
TZID:America/Los_Angeles
BEGIN:DAYLIGHT
TZOFFSETFROM:-0800
TZOFFSETTO:-0700
TZNAME:PDT
DTSTART:20210314T100000
END:DAYLIGHT
BEGIN:STANDARD
TZOFFSETFROM:-0700
TZOFFSETTO:-0800
TZNAME:PST
DTSTART:20211107T090000
END:STANDARD
END:VTIMEZONE
BEGIN:VEVENT
DTSTART;TZID=America/Los_Angeles:20211202T160000
DTEND;TZID=America/Los_Angeles:20211202T170000
DTSTAMP:20260425T040513
CREATED:20210902T002544Z
LAST-MODIFIED:20210902T002544Z
UID:8125-1638460800-1638464400@www.edgewaterpreschool.com
SUMMARY:School Closes at 4pm for Staff Development
DESCRIPTION:
URL:https://www.edgewaterpreschool.com/calendar/school-closes-at-4pm-for-staff-development-2
END:VEVENT
BEGIN:VEVENT
DTSTART;TZID=America/Los_Angeles:20211216T080000
DTEND;TZID=America/Los_Angeles:20211216T170000
DTSTAMP:20260425T040513
CREATED:20210902T002736Z
LAST-MODIFIED:20210902T002736Z
UID:8127-1639641600-1639674000@www.edgewaterpreschool.com
SUMMARY:Book Exchange Party
DESCRIPTION:
URL:https://www.edgewaterpreschool.com/calendar/book-exchange-party-2
END:VEVENT
END:VCALENDAR