BEGIN:VCALENDAR
VERSION:2.0
PRODID:-//Edgewater Preschool - ECPv5.2.1.1//NONSGML v1.0//EN
CALSCALE:GREGORIAN
METHOD:PUBLISH
X-WR-CALNAME:Edgewater Preschool
X-ORIGINAL-URL:https://www.edgewaterpreschool.com
X-WR-CALDESC:Events for Edgewater Preschool
BEGIN:VTIMEZONE
TZID:America/Los_Angeles
BEGIN:DAYLIGHT
TZOFFSETFROM:-0800
TZOFFSETTO:-0700
TZNAME:PDT
DTSTART:20220313T100000
END:DAYLIGHT
BEGIN:STANDARD
TZOFFSETFROM:-0700
TZOFFSETTO:-0800
TZNAME:PST
DTSTART:20221106T090000
END:STANDARD
END:VTIMEZONE
BEGIN:VEVENT
DTSTART;TZID=America/Los_Angeles:20220408T160000
DTEND;TZID=America/Los_Angeles:20220408T170000
DTSTAMP:20260425T094544
CREATED:20210902T005640Z
LAST-MODIFIED:20210902T005640Z
UID:8147-1649433600-1649437200@www.edgewaterpreschool.com
SUMMARY:School Closes at 4pm
DESCRIPTION:
URL:https://www.edgewaterpreschool.com/calendar/school-closes-at-4pm-3
END:VEVENT
BEGIN:VEVENT
DTSTART;TZID=America/Los_Angeles:20220408T160000
DTEND;TZID=America/Los_Angeles:20220408T173000
DTSTAMP:20260425T094544
CREATED:20210902T005747Z
LAST-MODIFIED:20210902T005747Z
UID:8149-1649433600-1649439000@www.edgewaterpreschool.com
SUMMARY:Spring Family Fest
DESCRIPTION:
URL:https://www.edgewaterpreschool.com/calendar/spring-family-fest
END:VEVENT
BEGIN:VEVENT
DTSTART;TZID=America/Los_Angeles:20220411T080000
DTEND;TZID=America/Los_Angeles:20220415T170000
DTSTAMP:20260425T094544
CREATED:20210902T010018Z
LAST-MODIFIED:20210902T010018Z
UID:8151-1649664000-1650042000@www.edgewaterpreschool.com
SUMMARY:Week of the Young Child
DESCRIPTION:
URL:https://www.edgewaterpreschool.com/calendar/week-of-the-young-child-2
END:VEVENT
BEGIN:VEVENT
DTSTART;TZID=America/Los_Angeles:20220412T093000
DTEND;TZID=America/Los_Angeles:20220412T130000
DTSTAMP:20260425T094544
CREATED:20210902T010253Z
LAST-MODIFIED:20210902T010253Z
UID:8153-1649755800-1649768400@www.edgewaterpreschool.com
SUMMARY:Preschool Field Trip - Tanaka Farms Strawberry Tour
DESCRIPTION:
URL:https://www.edgewaterpreschool.com/calendar/preschool-field-trip-tanaka-farms-strawberry-tour-2
END:VEVENT
BEGIN:VEVENT
DTSTART;TZID=America/Los_Angeles:20220414T160000
DTEND;TZID=America/Los_Angeles:20220414T170000
DTSTAMP:20260425T094544
CREATED:20210902T010740Z
LAST-MODIFIED:20210902T010740Z
UID:8155-1649952000-1649955600@www.edgewaterpreschool.com
SUMMARY:School Closes at 4pm for Staff Development
DESCRIPTION:
URL:https://www.edgewaterpreschool.com/calendar/school-closes-at-4pm-for-staff-development-4
END:VEVENT
END:VCALENDAR