BEGIN:VCALENDAR
VERSION:2.0
PRODID:-//Edgewater Preschool - ECPv5.2.1.1//NONSGML v1.0//EN
CALSCALE:GREGORIAN
METHOD:PUBLISH
X-WR-CALNAME:Edgewater Preschool
X-ORIGINAL-URL:https://www.edgewaterpreschool.com
X-WR-CALDESC:Events for Edgewater Preschool
BEGIN:VTIMEZONE
TZID:America/Los_Angeles
BEGIN:DAYLIGHT
TZOFFSETFROM:-0800
TZOFFSETTO:-0700
TZNAME:PDT
DTSTART:20210314T100000
END:DAYLIGHT
BEGIN:STANDARD
TZOFFSETFROM:-0700
TZOFFSETTO:-0800
TZNAME:PST
DTSTART:20211107T090000
END:STANDARD
END:VTIMEZONE
BEGIN:VEVENT
DTSTART;VALUE=DATE:20211028
DTEND;VALUE=DATE:20211029
DTSTAMP:20260425T094706
CREATED:20210901T233057Z
LAST-MODIFIED:20210901T233057Z
UID:8111-1635379200-1635465599@www.edgewaterpreschool.com
SUMMARY:Read for the Record
DESCRIPTION:
URL:https://www.edgewaterpreschool.com/calendar/read-for-the-record-2
END:VEVENT
END:VCALENDAR