BEGIN:VCALENDAR
VERSION:2.0
PRODID:-//Edgewater Preschool - ECPv5.2.1.1//NONSGML v1.0//EN
CALSCALE:GREGORIAN
METHOD:PUBLISH
X-WR-CALNAME:Edgewater Preschool
X-ORIGINAL-URL:https://www.edgewaterpreschool.com
X-WR-CALDESC:Events for Edgewater Preschool
BEGIN:VTIMEZONE
TZID:America/Los_Angeles
BEGIN:DAYLIGHT
TZOFFSETFROM:-0800
TZOFFSETTO:-0700
TZNAME:PDT
DTSTART:20250309T100000
END:DAYLIGHT
BEGIN:STANDARD
TZOFFSETFROM:-0700
TZOFFSETTO:-0800
TZNAME:PST
DTSTART:20251102T090000
END:STANDARD
END:VTIMEZONE
BEGIN:VEVENT
DTSTART;TZID=America/Los_Angeles:20250502T160000
DTEND;TZID=America/Los_Angeles:20250502T173000
DTSTAMP:20260425T054849
CREATED:20240924T233500Z
LAST-MODIFIED:20240924T233500Z
UID:8927-1746201600-1746207000@www.edgewaterpreschool.com
SUMMARY:Spring Family Fest 4-5:30pm
DESCRIPTION:
URL:https://www.edgewaterpreschool.com/calendar/spring-family-fest-4-530pm
END:VEVENT
END:VCALENDAR